BEGIN:VCALENDAR
VERSION:2.0
PRODID:-//Samurai Burgdorf - ECPv6.3.6//NONSGML v1.0//EN
CALSCALE:GREGORIAN
METHOD:PUBLISH
X-WR-CALNAME:Samurai Burgdorf
X-ORIGINAL-URL:https://www.samurai-burgdorf.de
X-WR-CALDESC:Veranstaltungen für Samurai Burgdorf
REFRESH-INTERVAL;VALUE=DURATION:PT1H
X-Robots-Tag:noindex
X-PUBLISHED-TTL:PT1H
BEGIN:VTIMEZONE
TZID:Europe/Berlin
BEGIN:DAYLIGHT
TZOFFSETFROM:+0100
TZOFFSETTO:+0200
TZNAME:CEST
DTSTART:20260329T010000
END:DAYLIGHT
BEGIN:STANDARD
TZOFFSETFROM:+0200
TZOFFSETTO:+0100
TZNAME:CET
DTSTART:20261025T010000
END:STANDARD
END:VTIMEZONE
BEGIN:VEVENT
DTSTART;TZID=Europe/Berlin:20261214T180000
DTEND;TZID=Europe/Berlin:20261214T200000
DTSTAMP:20260425T023946
CREATED:20260208T105059Z
LAST-MODIFIED:20260208T105059Z
UID:3762-1797271200-1797278400@www.samurai-burgdorf.de
SUMMARY:Jahresabschlusstraining
DESCRIPTION:
URL:https://www.samurai-burgdorf.de/veranstaltung/jahresabschlusstraining-3
LOCATION:Gymnastikhalle des Gymnaisum Burgdorf\, Berliner Ring 27\, Burgdorf\, Niedersachsen\, 31303\, Deutschland
END:VEVENT
END:VCALENDAR