BEGIN:VCALENDAR
VERSION:2.0
PRODID:-//Samurai Burgdorf - ECPv6.3.6//NONSGML v1.0//EN
CALSCALE:GREGORIAN
METHOD:PUBLISH
X-WR-CALNAME:Samurai Burgdorf
X-ORIGINAL-URL:https://www.samurai-burgdorf.de
X-WR-CALDESC:Veranstaltungen für Samurai Burgdorf
REFRESH-INTERVAL;VALUE=DURATION:PT1H
X-Robots-Tag:noindex
X-PUBLISHED-TTL:PT1H
BEGIN:VTIMEZONE
TZID:Europe/Berlin
BEGIN:DAYLIGHT
TZOFFSETFROM:+0100
TZOFFSETTO:+0200
TZNAME:CEST
DTSTART:20260329T010000
END:DAYLIGHT
BEGIN:STANDARD
TZOFFSETFROM:+0200
TZOFFSETTO:+0100
TZNAME:CET
DTSTART:20261025T010000
END:STANDARD
END:VTIMEZONE
BEGIN:VEVENT
DTSTART;TZID=Europe/Berlin:20260905T140000
DTEND;TZID=Europe/Berlin:20260905T183000
DTSTAMP:20260424T211624
CREATED:20260208T110303Z
LAST-MODIFIED:20260212T154145Z
UID:3786-1788616800-1788633000@www.samurai-burgdorf.de
SUMMARY:Panantukan-Lehrgang mit Timm Blaschke
DESCRIPTION:
URL:https://www.samurai-burgdorf.de/veranstaltung/panantukan-lehrgang-mit-timm-blaschke-2
LOCATION:Niedersachsen
END:VEVENT
BEGIN:VEVENT
DTSTART;TZID=Europe/Berlin:20260906T100000
DTEND;TZID=Europe/Berlin:20260906T130000
DTSTAMP:20260424T211624
CREATED:20260208T110338Z
LAST-MODIFIED:20260212T154152Z
UID:3789-1788688800-1788699600@www.samurai-burgdorf.de
SUMMARY:Lichtschwert-Lehrgang mit Timm Blaschke
DESCRIPTION:
URL:https://www.samurai-burgdorf.de/veranstaltung/lichtschwert-lehrgang-mit-timm-blaschke-2
LOCATION:Niedersachsen
END:VEVENT
BEGIN:VEVENT
DTSTART;TZID=Europe/Berlin:20260919T130000
DTEND;TZID=Europe/Berlin:20260920T130000
DTSTAMP:20260424T211624
CREATED:20260208T105729Z
LAST-MODIFIED:20260208T105729Z
UID:3778-1789822800-1789909200@www.samurai-burgdorf.de
SUMMARY:DJJU Bundesseminar
DESCRIPTION:
URL:https://www.samurai-burgdorf.de/veranstaltung/djju-bundesseminar-2
LOCATION:Sporthalle des Gymnasium Burgdorf\, Berliner Ring 27\, Burgdorf\, Niedersachsen\, 31303\, Deutschland
END:VEVENT
END:VCALENDAR