BEGIN:VCALENDAR
VERSION:2.0
PRODID:-//Samurai Burgdorf - ECPv6.3.6//NONSGML v1.0//EN
CALSCALE:GREGORIAN
METHOD:PUBLISH
X-ORIGINAL-URL:https://www.samurai-burgdorf.de
X-WR-CALDESC:Veranstaltungen für Samurai Burgdorf
REFRESH-INTERVAL;VALUE=DURATION:PT1H
X-Robots-Tag:noindex
X-PUBLISHED-TTL:PT1H
BEGIN:VTIMEZONE
TZID:Europe/Berlin
BEGIN:DAYLIGHT
TZOFFSETFROM:+0100
TZOFFSETTO:+0200
TZNAME:CEST
DTSTART:20260329T010000
END:DAYLIGHT
BEGIN:STANDARD
TZOFFSETFROM:+0200
TZOFFSETTO:+0100
TZNAME:CET
DTSTART:20261025T010000
END:STANDARD
END:VTIMEZONE
BEGIN:VEVENT
DTSTART;VALUE=DATE:20260606
DTEND;VALUE=DATE:20260607
DTSTAMP:20260424T154101
CREATED:20260330T102309Z
LAST-MODIFIED:20260424T090733Z
UID:3860-1780704000-1780790399@www.samurai-burgdorf.de
SUMMARY:Wandertag
DESCRIPTION:wandertag_2026
URL:https://www.samurai-burgdorf.de/veranstaltung/wandertag
LOCATION:Fuhrberg\, Fuhrberg\, Niedersachsen\, Deutschland
END:VEVENT
BEGIN:VEVENT
DTSTART;TZID=Europe/Berlin:20260619T160000
DTEND;TZID=Europe/Berlin:20260621T110000
DTSTAMP:20260424T154101
CREATED:20260208T111012Z
LAST-MODIFIED:20260406T104042Z
UID:3792-1781884800-1782039600@www.samurai-burgdorf.de
SUMMARY:Samurai-Freizeit
DESCRIPTION:Infozettel Samurai-Freizeit \nAnmeldezettel Samurai-Freizeit
URL:https://www.samurai-burgdorf.de/veranstaltung/samurai-freizeit-3
LOCATION:Forsthaus Katensen\, Am Immenberg 9\, Uetze\, Niedersachsen\, 31311\, Deutschland
END:VEVENT
BEGIN:VEVENT
DTSTART;TZID=Europe/Berlin:20260627T130000
DTEND;TZID=Europe/Berlin:20260627T150000
DTSTAMP:20260424T154101
CREATED:20260217T081813Z
LAST-MODIFIED:20260217T081813Z
UID:3834-1782565200-1782572400@www.samurai-burgdorf.de
SUMMARY:Kinderprüfung Karate
DESCRIPTION:
URL:https://www.samurai-burgdorf.de/veranstaltung/kinderpruefung-karate-5
LOCATION:Richard-Höper-Halle\, Hannoversche Neustadt 32\, Burgdorf\, Niedersachsen\, 31303\, Deutschland
END:VEVENT
END:VCALENDAR