BEGIN:VCALENDAR
VERSION:2.0
PRODID:-//Samurai Burgdorf - ECPv6.3.6//NONSGML v1.0//EN
CALSCALE:GREGORIAN
METHOD:PUBLISH
X-WR-CALNAME:Samurai Burgdorf
X-ORIGINAL-URL:https://www.samurai-burgdorf.de
X-WR-CALDESC:Veranstaltungen für Samurai Burgdorf
REFRESH-INTERVAL;VALUE=DURATION:PT1H
X-Robots-Tag:noindex
X-PUBLISHED-TTL:PT1H
BEGIN:VTIMEZONE
TZID:Europe/Berlin
BEGIN:DAYLIGHT
TZOFFSETFROM:+0100
TZOFFSETTO:+0200
TZNAME:CEST
DTSTART:20260329T010000
END:DAYLIGHT
BEGIN:STANDARD
TZOFFSETFROM:+0200
TZOFFSETTO:+0100
TZNAME:CET
DTSTART:20261025T010000
END:STANDARD
END:VTIMEZONE
BEGIN:VEVENT
DTSTART;TZID=Europe/Berlin:20260425T140000
DTEND;TZID=Europe/Berlin:20260425T170000
DTSTAMP:20260422T150713
CREATED:20260208T105306Z
LAST-MODIFIED:20260208T200204Z
UID:3769-1777125600-1777136400@www.samurai-burgdorf.de
SUMMARY:Jiu-Lehrgang für Kinder mit Sophie Diekmann
DESCRIPTION:
URL:https://www.samurai-burgdorf.de/veranstaltung/jiu-lehrgang-fuer-kinder-mit-sophie
LOCATION:Niedersachsen
END:VEVENT
END:VCALENDAR