BEGIN:VCALENDAR
VERSION:2.0
PRODID:-//Samurai Burgdorf - ECPv6.3.6//NONSGML v1.0//EN
CALSCALE:GREGORIAN
METHOD:PUBLISH
X-ORIGINAL-URL:https://www.samurai-burgdorf.de
X-WR-CALDESC:Veranstaltungen für Samurai Burgdorf
REFRESH-INTERVAL;VALUE=DURATION:PT1H
X-Robots-Tag:noindex
X-PUBLISHED-TTL:PT1H
BEGIN:VTIMEZONE
TZID:Europe/Berlin
BEGIN:DAYLIGHT
TZOFFSETFROM:+0100
TZOFFSETTO:+0200
TZNAME:CEST
DTSTART:20260329T010000
END:DAYLIGHT
BEGIN:STANDARD
TZOFFSETFROM:+0200
TZOFFSETTO:+0100
TZNAME:CET
DTSTART:20261025T010000
END:STANDARD
END:VTIMEZONE
BEGIN:VEVENT
DTSTART;TZID=Europe/Berlin:20260822T140000
DTEND;TZID=Europe/Berlin:20260822T170000
DTSTAMP:20260424T211711
CREATED:20260208T105541Z
LAST-MODIFIED:20260208T105541Z
UID:3775-1787407200-1787418000@www.samurai-burgdorf.de
SUMMARY:Samurai-Sommerfest für Kinder
DESCRIPTION:
URL:https://www.samurai-burgdorf.de/veranstaltung/samurai-sommerfest-fuer-kinder
LOCATION:Samurai-Garten\, Moorstraße 60\, Burgdorf\, Niedersachsen\, 31303\, Deutschland
END:VEVENT
END:VCALENDAR